BEGIN:VCALENDAR
VERSION:2.0
PRODID:-//Internationale Wochen gegen Rassismus Karlsruhe - ECPv6.15.20//NONSGML v1.0//EN
CALSCALE:GREGORIAN
METHOD:PUBLISH
X-WR-CALNAME:Internationale Wochen gegen Rassismus Karlsruhe
X-ORIGINAL-URL:https://www.iwgr-ka.de
X-WR-CALDESC:Veranstaltungen für Internationale Wochen gegen Rassismus Karlsruhe
REFRESH-INTERVAL;VALUE=DURATION:PT1H
X-Robots-Tag:noindex
X-PUBLISHED-TTL:PT1H
BEGIN:VTIMEZONE
TZID:Europe/Berlin
BEGIN:DAYLIGHT
TZOFFSETFROM:+0100
TZOFFSETTO:+0200
TZNAME:CEST
DTSTART:20250330T010000
END:DAYLIGHT
BEGIN:STANDARD
TZOFFSETFROM:+0200
TZOFFSETTO:+0100
TZNAME:CET
DTSTART:20251026T010000
END:STANDARD
BEGIN:DAYLIGHT
TZOFFSETFROM:+0100
TZOFFSETTO:+0200
TZNAME:CEST
DTSTART:20260329T010000
END:DAYLIGHT
BEGIN:STANDARD
TZOFFSETFROM:+0200
TZOFFSETTO:+0100
TZNAME:CET
DTSTART:20261025T010000
END:STANDARD
BEGIN:DAYLIGHT
TZOFFSETFROM:+0100
TZOFFSETTO:+0200
TZNAME:CEST
DTSTART:20270328T010000
END:DAYLIGHT
BEGIN:STANDARD
TZOFFSETFROM:+0200
TZOFFSETTO:+0100
TZNAME:CET
DTSTART:20271031T010000
END:STANDARD
END:VTIMEZONE
BEGIN:VEVENT
DTSTART;TZID=Europe/Berlin:20260307T110000
DTEND;TZID=Europe/Berlin:20260307T120000
DTSTAMP:20260424T111241
CREATED:20260213T160612Z
LAST-MODIFIED:20260317T105827Z
UID:10000307-1772881200-1772884800@www.iwgr-ka.de
SUMMARY:Soft-Opening der IWgR 2026 im Rahmen der Händelfestspiele
DESCRIPTION:Vernissage der Installation „The Cage“ von Fahar Al-Salih. \nSoft-Opening der Internationalen Wochen gegen Rassismus 2026 in Karlsruhe im Rahmen der Händelfestspiele Karlsruhe mit Schirmherrin Stephanie Patron\, Direktorin Kunstmuseum Karlsruhe \nMusik: Streichquartett der Deutschen Händel-Solisten (Badisches Staatstheater Karlsruhe)\, KMD Christian-Markus Raiser\, Orgel
URL:https://www.iwgr-ka.de/event/vernissage-der-installation-the-cage/
LOCATION:Stadtkirche\, Marktplatz\, Karlsruhe\, 76131
ATTACH;FMTTYPE=image/jpeg:https://www.iwgr-ka.de/wp-content/uploads/2026/02/Fahar-Al-Salih_Foto-privat_2-scaled.jpg
END:VEVENT
END:VCALENDAR