BEGIN:VCALENDAR
VERSION:2.0
PRODID:-//Internationale Wochen gegen Rassismus Karlsruhe - ECPv6.15.20//NONSGML v1.0//EN
CALSCALE:GREGORIAN
METHOD:PUBLISH
X-ORIGINAL-URL:https://www.iwgr-ka.de
X-WR-CALDESC:Veranstaltungen für Internationale Wochen gegen Rassismus Karlsruhe
REFRESH-INTERVAL;VALUE=DURATION:PT1H
X-Robots-Tag:noindex
X-PUBLISHED-TTL:PT1H
BEGIN:VTIMEZONE
TZID:Europe/Berlin
BEGIN:DAYLIGHT
TZOFFSETFROM:+0100
TZOFFSETTO:+0200
TZNAME:CEST
DTSTART:20250330T010000
END:DAYLIGHT
BEGIN:STANDARD
TZOFFSETFROM:+0200
TZOFFSETTO:+0100
TZNAME:CET
DTSTART:20251026T010000
END:STANDARD
BEGIN:DAYLIGHT
TZOFFSETFROM:+0100
TZOFFSETTO:+0200
TZNAME:CEST
DTSTART:20260329T010000
END:DAYLIGHT
BEGIN:STANDARD
TZOFFSETFROM:+0200
TZOFFSETTO:+0100
TZNAME:CET
DTSTART:20261025T010000
END:STANDARD
BEGIN:DAYLIGHT
TZOFFSETFROM:+0100
TZOFFSETTO:+0200
TZNAME:CEST
DTSTART:20270328T010000
END:DAYLIGHT
BEGIN:STANDARD
TZOFFSETFROM:+0200
TZOFFSETTO:+0100
TZNAME:CET
DTSTART:20271031T010000
END:STANDARD
END:VTIMEZONE
BEGIN:VEVENT
DTSTART;TZID=Europe/Berlin:20260306T183000
DTEND;TZID=Europe/Berlin:20260306T213000
DTSTAMP:20260424T112502
CREATED:20260219T121225Z
LAST-MODIFIED:20260317T105827Z
UID:10000316-1772821800-1772832600@www.iwgr-ka.de
SUMMARY:Raus aus dem Rückwärtsgang
DESCRIPTION:Raus aus dem Rückwärtsgang – Internationaler Frauentag 2026 \nPolitik? Nicht ohne uns Frauen*! \nAnlässlich des Internationalen Frauentags\, der in diesem Jahr mit der Landtagswahl in Baden-Württemberg zusammenfällt\, laden wir gemeinsam mit dem Internationalen Begegnungszentrum (ibz)und SOZPÄDAL ins Tollhaus ein. Unter dem Motto „Raus aus dem Rückwärtsgang“ rücken wir frauenpolitische Forderungen in den Fokus und kommen mit Landtagskandidatinnen ins Gespräch. \nPodiumsdiskussion: „Schön aufmischen – wir sind mehr!“ Die Landtagskandidatinnen Katrin Schütz(CDU)\, Merk Uhlig(SPD)\, Dr.Ute Leidig(Die Grünen)\, Louise Fessmann(Die Linke) und Alena Fink-Trauschel(FDP) diskutieren zu frauenpolitischen Themen und nehmen Stellung zu euren Fragen. \nAbschluss mit Power-FLINTA* only! Lasst gemeinsam den Abend ausklingen bei der FLINTA*-Disco ab 22 Uhr. Zu Musik von DJ LeParme können wir tanzen\, Energie tanken und unsere solidarische Gemeinschaft feiern! \n  \n 
URL:https://www.iwgr-ka.de/event/raus-aus-dem-rueckwaertsgang/
LOCATION:Kulturzentrum TOLLHAUS\, Alter Schlachthof 35\, Karlsruhe\, 76131
END:VEVENT
END:VCALENDAR